BEGIN:VCALENDAR
VERSION:2.0
PRODID:-//EarlystART Schools - ECPv6.15.3//NONSGML v1.0//EN
CALSCALE:GREGORIAN
METHOD:PUBLISH
X-WR-CALNAME:EarlystART Schools
X-ORIGINAL-URL:https://earlystartkc.org
X-WR-CALDESC:Events for EarlystART Schools
REFRESH-INTERVAL;VALUE=DURATION:PT1H
X-Robots-Tag:noindex
X-PUBLISHED-TTL:PT1H
BEGIN:VTIMEZONE
TZID:America/Chicago
BEGIN:DAYLIGHT
TZOFFSETFROM:-0600
TZOFFSETTO:-0500
TZNAME:CDT
DTSTART:20250309T080000
END:DAYLIGHT
BEGIN:STANDARD
TZOFFSETFROM:-0500
TZOFFSETTO:-0600
TZNAME:CST
DTSTART:20251102T070000
END:STANDARD
END:VTIMEZONE
BEGIN:VEVENT
DTSTART;TZID=America/Chicago:20250401T173000
DTEND;TZID=America/Chicago:20250401T193000
DTSTAMP:20260425T071434
CREATED:20241022T184820Z
LAST-MODIFIED:20241022T184820Z
UID:246997-1743528600-1743535800@earlystartkc.org
SUMMARY:Conscious Discipline PE
DESCRIPTION:
URL:https://earlystartkc.org/event/conscious-discipline-pe-3/2025-04-01/
LOCATION:EarlystART – St. Mark Center\, 2008 E. 12th Street\, Kansas City\, MO\, 64127\, United States
END:VEVENT
BEGIN:VEVENT
DTSTART;TZID=America/Chicago:20250408T173000
DTEND;TZID=America/Chicago:20250408T193000
DTSTAMP:20260425T071434
CREATED:20241022T184820Z
LAST-MODIFIED:20241022T184820Z
UID:246998-1744133400-1744140600@earlystartkc.org
SUMMARY:Conscious Discipline PE
DESCRIPTION:
URL:https://earlystartkc.org/event/conscious-discipline-pe-3/2025-04-08/
LOCATION:EarlystART – St. Mark Center\, 2008 E. 12th Street\, Kansas City\, MO\, 64127\, United States
END:VEVENT
BEGIN:VEVENT
DTSTART;TZID=America/Chicago:20250415T173000
DTEND;TZID=America/Chicago:20250415T193000
DTSTAMP:20260425T071434
CREATED:20241022T184820Z
LAST-MODIFIED:20241022T184820Z
UID:246999-1744738200-1744745400@earlystartkc.org
SUMMARY:Conscious Discipline PE
DESCRIPTION:
URL:https://earlystartkc.org/event/conscious-discipline-pe-3/2025-04-15/
LOCATION:EarlystART – St. Mark Center\, 2008 E. 12th Street\, Kansas City\, MO\, 64127\, United States
END:VEVENT
BEGIN:VEVENT
DTSTART;TZID=America/Chicago:20250418T080000
DTEND;TZID=America/Chicago:20250418T170000
DTSTAMP:20260425T071434
CREATED:20240708T200148Z
LAST-MODIFIED:20240708T200148Z
UID:246643-1744963200-1744995600@earlystartkc.org
SUMMARY:Professional Development\, NO STUDENTS
DESCRIPTION:
URL:https://earlystartkc.org/event/professional-development-no-students-2/
LOCATION:MO
END:VEVENT
BEGIN:VEVENT
DTSTART;TZID=America/Chicago:20250424T173000
DTEND;TZID=America/Chicago:20250424T193000
DTSTAMP:20260425T071434
CREATED:20241022T184910Z
LAST-MODIFIED:20241022T184910Z
UID:247000-1745515800-1745523000@earlystartkc.org
SUMMARY:Art Festival
DESCRIPTION:
URL:https://earlystartkc.org/event/art-festival-3/
LOCATION:EarlystART – St. Mark Center\, 2008 E. 12th Street\, Kansas City\, MO\, 64127\, United States
END:VEVENT
END:VCALENDAR