BEGIN:VCALENDAR
VERSION:2.0
PRODID:-//EarlystART Schools - ECPv6.15.3//NONSGML v1.0//EN
CALSCALE:GREGORIAN
METHOD:PUBLISH
X-WR-CALNAME:EarlystART Schools
X-ORIGINAL-URL:https://earlystartkc.org
X-WR-CALDESC:Events for EarlystART Schools
REFRESH-INTERVAL;VALUE=DURATION:PT1H
X-Robots-Tag:noindex
X-PUBLISHED-TTL:PT1H
BEGIN:VTIMEZONE
TZID:America/Chicago
BEGIN:DAYLIGHT
TZOFFSETFROM:-0600
TZOFFSETTO:-0500
TZNAME:CDT
DTSTART:20220313T080000
END:DAYLIGHT
BEGIN:STANDARD
TZOFFSETFROM:-0500
TZOFFSETTO:-0600
TZNAME:CST
DTSTART:20221106T070000
END:STANDARD
END:VTIMEZONE
BEGIN:VEVENT
DTSTART;VALUE=DATE:20220617
DTEND;VALUE=DATE:20220618
DTSTAMP:20260423T105406
CREATED:20220225T182046Z
LAST-MODIFIED:20220225T184110Z
UID:243585-1655424000-1655510399@earlystartkc.org
SUMMARY:Juneteenth
DESCRIPTION:EarlystART Child and Family Development Centers will be closed to recognize Juneteenth.
URL:https://earlystartkc.org/event/juneteenth/
LOCATION:MO
CATEGORIES:Holidays/School Closures
END:VEVENT
BEGIN:VEVENT
DTSTART;VALUE=DATE:20220531
DTEND;VALUE=DATE:20220601
DTSTAMP:20260423T105406
CREATED:20220225T181828Z
LAST-MODIFIED:20220225T184005Z
UID:243583-1653955200-1654041599@earlystartkc.org
SUMMARY:First Day of Summer Session 1
DESCRIPTION:EarlystART Child and Family Development Centers will be open for the start of the first summer session. \nEnrollment is required for pre-k students to attend summer sessions 1 and 2. Fees are required in order to attend these sessions. State subsidy is accepted. Please see a Family Advocate or the front desk for more information.
URL:https://earlystartkc.org/event/start-of-summer-session-1/
LOCATION:MO
CATEGORIES:Program Start Days
END:VEVENT
BEGIN:VEVENT
DTSTART;VALUE=DATE:20220530
DTEND;VALUE=DATE:20220531
DTSTAMP:20260423T105406
CREATED:20220225T181703Z
LAST-MODIFIED:20220225T183600Z
UID:243581-1653868800-1653955199@earlystartkc.org
SUMMARY:Closed for Memorial Day
DESCRIPTION:EarlystART Child and Family Development Centers will be closed to recognize Memorial Day.
URL:https://earlystartkc.org/event/closed-for-memorial-day/
LOCATION:MO
CATEGORIES:Holidays/School Closures
END:VEVENT
BEGIN:VEVENT
DTSTART;VALUE=DATE:20220526
DTEND;VALUE=DATE:20220527
DTSTAMP:20260423T105406
CREATED:20220225T181535Z
LAST-MODIFIED:20220225T181535Z
UID:243579-1653523200-1653609599@earlystartkc.org
SUMMARY:St. Mark Center Graduation
DESCRIPTION:Check back here for more information on EarlystART St. Mark Center’s Preschool Graduation!
URL:https://earlystartkc.org/event/st-mark-center-graduation/
LOCATION:MO
CATEGORIES:School Event
END:VEVENT
BEGIN:VEVENT
DTSTART;VALUE=DATE:20220525
DTEND;VALUE=DATE:20220526
DTSTAMP:20260423T105406
CREATED:20220225T181416Z
LAST-MODIFIED:20220225T184801Z
UID:243577-1653436800-1653523199@earlystartkc.org
SUMMARY:North Center Graduation
DESCRIPTION:Check back here for more information on EarlystART North Center’s Preschool Graduation!
URL:https://earlystartkc.org/event/north-center-graduation/
LOCATION:MO
CATEGORIES:School Event
END:VEVENT
BEGIN:VEVENT
DTSTART;VALUE=DATE:20220524
DTEND;VALUE=DATE:20220525
DTSTAMP:20260423T105406
CREATED:20220225T181231Z
LAST-MODIFIED:20220225T181231Z
UID:243575-1653350400-1653436799@earlystartkc.org
SUMMARY:Metro Center Graduation
DESCRIPTION:Check back here for more information about EarlystART Metro Center’s Preschool Graduation!
URL:https://earlystartkc.org/event/metro-center-graduation/
LOCATION:MO
CATEGORIES:School Event
END:VEVENT
BEGIN:VEVENT
DTSTART;VALUE=DATE:20220520
DTEND;VALUE=DATE:20220521
DTSTAMP:20260423T105406
CREATED:20220225T181038Z
LAST-MODIFIED:20220225T183818Z
UID:243573-1653004800-1653091199@earlystartkc.org
SUMMARY:Last day of Pre-K
DESCRIPTION:This is the last day of the regular 2021-2022 school session. All centers will be open this day during regular hours. \nEnrollment is required for pre-k students to attend summer sessions 1 and 2. Fees are required in order to attend these sessions. State subsidy is accepted. Please see a Family Advocate or the front desk for more information.
URL:https://earlystartkc.org/event/last-day-of-pre-k/
LOCATION:MO
CATEGORIES:Last Day of Pre-K & Summer Camp
END:VEVENT
BEGIN:VEVENT
DTSTART;VALUE=DATE:20220415
DTEND;VALUE=DATE:20220416
DTSTAMP:20260423T105406
CREATED:20220225T180758Z
LAST-MODIFIED:20220225T183503Z
UID:243571-1649980800-1650067199@earlystartkc.org
SUMMARY:Closed for Professional Development
DESCRIPTION:EarlystART Child and Family Development Centers will be closed for a professional development day.
URL:https://earlystartkc.org/event/closed-for-professional-development/
LOCATION:MO
CATEGORIES:Holidays/School Closures
END:VEVENT
BEGIN:VEVENT
DTSTART;VALUE=DATE:20220414
DTEND;VALUE=DATE:20220415
DTSTAMP:20260423T105406
CREATED:20220225T180442Z
LAST-MODIFIED:20220225T180627Z
UID:243569-1649894400-1649980799@earlystartkc.org
SUMMARY:Art Festival
DESCRIPTION:Check back here for more information on the EarlystART Art Festival. In the meantime\, check out our Arts & Curriculum page to read more about how we use the arts to support quality early education and a lifetime of learning!
URL:https://earlystartkc.org/event/art-festival/
LOCATION:MO
CATEGORIES:School Event
END:VEVENT
BEGIN:VEVENT
DTSTART;VALUE=DATE:20220321
DTEND;VALUE=DATE:20220326
DTSTAMP:20260423T105406
CREATED:20220222T205655Z
LAST-MODIFIED:20220222T210314Z
UID:243449-1647820800-1648252799@earlystartkc.org
SUMMARY:Spring Break
DESCRIPTION:EarlystART Child and Family Development Centers will be closed.
URL:https://earlystartkc.org/event/spring-break/
LOCATION:MO
CATEGORIES:Holidays/School Closures
END:VEVENT
BEGIN:VEVENT
DTSTART;TZID=America/Chicago:20220225T180000
DTEND;TZID=America/Chicago:20220225T190000
DTSTAMP:20260423T105406
CREATED:20210218T163009Z
LAST-MODIFIED:20220204T145047Z
UID:3966-1645812000-1645815600@earlystartkc.org
SUMMARY:School Test Event
DESCRIPTION:This is a test event.
URL:https://earlystartkc.org/event/school-test-event/
LOCATION:The lunch room
CATEGORIES:School Event
END:VEVENT
END:VCALENDAR