BEGIN:VCALENDAR
VERSION:2.0
PRODID:-//EarlystART Schools - ECPv6.15.3//NONSGML v1.0//EN
CALSCALE:GREGORIAN
METHOD:PUBLISH
X-WR-CALNAME:EarlystART Schools
X-ORIGINAL-URL:https://earlystartkc.org
X-WR-CALDESC:Events for EarlystART Schools
REFRESH-INTERVAL;VALUE=DURATION:PT1H
X-Robots-Tag:noindex
X-PUBLISHED-TTL:PT1H
BEGIN:VTIMEZONE
TZID:America/Chicago
BEGIN:DAYLIGHT
TZOFFSETFROM:-0600
TZOFFSETTO:-0500
TZNAME:CDT
DTSTART:20230312T080000
END:DAYLIGHT
BEGIN:STANDARD
TZOFFSETFROM:-0500
TZOFFSETTO:-0600
TZNAME:CST
DTSTART:20231105T070000
END:STANDARD
END:VTIMEZONE
BEGIN:VTIMEZONE
TZID:UTC
BEGIN:STANDARD
TZOFFSETFROM:+0000
TZOFFSETTO:+0000
TZNAME:UTC
DTSTART:20220101T000000
END:STANDARD
END:VTIMEZONE
BEGIN:VTIMEZONE
TZID:America/New_York
BEGIN:DAYLIGHT
TZOFFSETFROM:-0500
TZOFFSETTO:-0400
TZNAME:EDT
DTSTART:20220313T070000
END:DAYLIGHT
BEGIN:STANDARD
TZOFFSETFROM:-0400
TZOFFSETTO:-0500
TZNAME:EST
DTSTART:20221106T060000
END:STANDARD
END:VTIMEZONE
BEGIN:VEVENT
DTSTART;TZID=America/Chicago:20230209T173000
DTEND;TZID=America/Chicago:20230209T193000
DTSTAMP:20260421T093835
CREATED:20230201T225206Z
LAST-MODIFIED:20230201T225206Z
UID:245384-1675963800-1675971000@earlystartkc.org
SUMMARY:Sarah Rector Listening Session
DESCRIPTION:Everyone is encouraged to attend this final planning session on February 9\, 2023 and see what is in the works with this project. Dinner and childcare will be provided. Please use the Signup Genius link to register!
URL:https://earlystartkc.org/event/sarah-rector-listening-session/
LOCATION:EarlystART – St. Mark Center\, 2008 E. 12th Street\, Kansas City\, MO\, 64127\, United States
END:VEVENT
BEGIN:VEVENT
DTSTART;TZID=America/Chicago:20230202T150000
DTEND;TZID=America/Chicago:20230202T180000
DTSTAMP:20260421T093835
CREATED:20230201T224733Z
LAST-MODIFIED:20230201T224733Z
UID:245382-1675350000-1675360800@earlystartkc.org
SUMMARY:Kindergarten Fair
DESCRIPTION:This event is to inform our families of the premiere choices for their child entering Kindergarten. Family resources and various elementary schools will be in attendance to answer any questions you might have. Join us February 2nd from 3-6PM to learn more about your kindergarten options! \nSchools participating: \n\naSTEAM Village\nAcade’mie Lafayette\nAcademy of Integrated Arts\nBrookside Charter School\nCitizens of the World School\nCrossroads Charter Schools\nKansas City Public Schools\nLee A. Tolbert Community Academy
URL:https://earlystartkc.org/event/kindergarten-fair/
LOCATION:EarlystART – St. Mark Center\, 2008 E. 12th Street\, Kansas City\, MO\, 64127\, United States
END:VEVENT
BEGIN:VEVENT
DTSTART;TZID=America/Chicago:20230128T100000
DTEND;TZID=America/Chicago:20230128T120000
DTSTAMP:20260421T093835
CREATED:20230106T203812Z
LAST-MODIFIED:20230106T203812Z
UID:245366-1674900000-1674907200@earlystartkc.org
SUMMARY:School Saturday - City Wide Open Houses
DESCRIPTION:EarlystART is participating in (School App KC) SAKC School Saturday: City Wide Open House YEAR 5 on Saturday\, January 28\, 2023 10AM-12PM. Family advocates\, teachers\, and directors will be available to answer questions and provide tours for families interested in pre-k education for their child/children at EarlystART sites.
URL:https://earlystartkc.org/event/school-saturday-city-wide-open-houses/
LOCATION:EarlystART – St. Mark Center\, 2008 E. 12th Street\, Kansas City\, MO\, 64127\, United States
END:VEVENT
BEGIN:VEVENT
DTSTART;VALUE=DATE:20230128
DTEND;VALUE=DATE:20230129
DTSTAMP:20260421T093835
CREATED:20220912T172624Z
LAST-MODIFIED:20220912T172624Z
UID:245163-1674864000-1674950399@earlystartkc.org
SUMMARY:SchoolSmartKC School Saturday
DESCRIPTION:Tour schools and meet staff at 21 participating local schools\, including EarlystART’s three centers!
URL:https://earlystartkc.org/event/schoolsmartkc-school-saturday/
LOCATION:MO
END:VEVENT
BEGIN:VEVENT
DTSTART;TZID=America/Chicago:20230116T090000
DTEND;TZID=America/Chicago:20230116T130000
DTSTAMP:20260421T093835
CREATED:20230103T203134Z
LAST-MODIFIED:20230103T203345Z
UID:245345-1673859600-1673874000@earlystartkc.org
SUMMARY:MLK Jr. Day of Service
DESCRIPTION:EarlystART is hosting a special day of service on January 16\, 2023 to honor the service and humanitarianism that Dr. Martin Luther King\, Jr. so beautifully demonstrated during his life. If you’d like to join us on this day of service\, you can sign up and find more details through the link listed below.
URL:https://earlystartkc.org/event/mlk-jr-day-of-service/
LOCATION:EarlystART-North Center\, 6600 A Royal St\, Pleasant Valley\, MO\, 64068\, United States
CATEGORIES:Volunteer Opportunities
ORGANIZER;CN="Alana Ellis":MAILTO:alana.ellis@earlystartkc.org
END:VEVENT
BEGIN:VEVENT
DTSTART;TZID=America/Chicago:20230105T140000
DTEND;TZID=America/Chicago:20230105T173000
DTSTAMP:20260421T093835
CREATED:20230103T205925Z
LAST-MODIFIED:20230103T205925Z
UID:245347-1672927200-1672939800@earlystartkc.org
SUMMARY:Stay\, Play\, & Learn!
DESCRIPTION:EarlystART’s Stay\, Play\, & Learn is a weekly program where parents/caregivers and families are invited to engage with their child through an arts activity during their regularly-scheduled pick-up time. We would like to invite volunteers to help with set up\, support arts/learning activities\, and assist with clean up. The weekly series is offered on Thursdays from 3 to 5PM. Volunteers are welcome to support this anytime from 2 to 5:30PM. \nSign up to volunteer with us HERE!
URL:https://earlystartkc.org/event/stay-play-learn-2/2023-01-05/
LOCATION:EarlystART – St. Mark Center\, 2008 E. 12th Street\, Kansas City\, MO\, 64127\, United States
ORGANIZER;CN="Alana Ellis":MAILTO:alana.ellis@earlystartkc.org
END:VEVENT
BEGIN:VEVENT
DTSTART;TZID=America/New_York:20221215T140000
DTEND;TZID=America/New_York:20221215T173000
DTSTAMP:20260421T093835
CREATED:20220715T210709Z
LAST-MODIFIED:20220715T221151Z
UID:244897-1671112800-1671125400@earlystartkc.org
SUMMARY:Stay\, Play\, & Learn!
DESCRIPTION:EarlystART’s Stay\, Play\, & Learn is a weekly program where parents/caregivers and families are invited to engage with their child through an arts activity during their regularly-scheduled pick-up time. We would like to invite volunteers to help with set up\, support arts/learning activities\, and assist with clean up. The weekly series is offered on Thursdays from 3 to 5 PM. Volunteers are welcome to support this anytime from 2 to 5:30 PM. \nSign up to volunteer with us HERE!
URL:https://earlystartkc.org/event/stay-play-learn-2022-12-15/
LOCATION:MO
ATTACH;FMTTYPE=image/png:https://earlystartkc.org/wp-content/uploads/2022/07/Volunteer-SignUp-Genius-Banners-3.png
ORGANIZER;CN="Emily Wellborn":MAILTO:emily.wellborn@earlystARTkc.org
END:VEVENT
BEGIN:VEVENT
DTSTART;TZID=America/New_York:20221208T140000
DTEND;TZID=America/New_York:20221208T173000
DTSTAMP:20260421T093835
CREATED:20220715T210709Z
LAST-MODIFIED:20220715T221241Z
UID:244896-1670508000-1670520600@earlystartkc.org
SUMMARY:Stay\, Play\, & Learn!
DESCRIPTION:EarlystART’s Stay\, Play\, & Learn is a weekly program where parents/caregivers and families are invited to engage with their child through an arts activity during their regularly-scheduled pick-up time. We would like to invite volunteers to help with set up\, support arts/learning activities\, and assist with clean up. The weekly series is offered on Thursdays from 3 to 5 PM. Volunteers are welcome to support this anytime from 2 to 5:30 PM. \nSign up to volunteer with us HERE!
URL:https://earlystartkc.org/event/stay-play-learn-2022-12-08/
LOCATION:MO
ATTACH;FMTTYPE=image/png:https://earlystartkc.org/wp-content/uploads/2022/07/Volunteer-SignUp-Genius-Banners-3.png
ORGANIZER;CN="Emily Wellborn":MAILTO:emily.wellborn@earlystARTkc.org
END:VEVENT
BEGIN:VEVENT
DTSTART;TZID=America/New_York:20221201T140000
DTEND;TZID=America/New_York:20221201T173000
DTSTAMP:20260421T093835
CREATED:20220715T210709Z
LAST-MODIFIED:20220715T221356Z
UID:244895-1669903200-1669915800@earlystartkc.org
SUMMARY:Stay\, Play\, & Learn!
DESCRIPTION:EarlystART’s Stay\, Play\, & Learn is a weekly program where parents/caregivers and families are invited to engage with their child through an arts activity during their regularly-scheduled pick-up time. We would like to invite volunteers to help with set up\, support arts/learning activities\, and assist with clean up. The weekly series is offered on Thursdays from 3 to 5 PM. Volunteers are welcome to support this anytime from 2 to 5:30 PM. \nSign up to volunteer with us HERE!
URL:https://earlystartkc.org/event/stay-play-learn-2022-12-01/
LOCATION:MO
ATTACH;FMTTYPE=image/png:https://earlystartkc.org/wp-content/uploads/2022/07/Volunteer-SignUp-Genius-Banners-3.png
ORGANIZER;CN="Emily Wellborn":MAILTO:emily.wellborn@earlystARTkc.org
END:VEVENT
BEGIN:VEVENT
DTSTART;TZID=America/New_York:20221117T140000
DTEND;TZID=America/New_York:20221117T173000
DTSTAMP:20260421T093835
CREATED:20220715T210709Z
LAST-MODIFIED:20220715T221443Z
UID:244894-1668693600-1668706200@earlystartkc.org
SUMMARY:Stay\, Play\, & Learn!
DESCRIPTION:EarlystART’s Stay\, Play\, & Learn is a weekly program where parents/caregivers and families are invited to engage with their child through an arts activity during their regularly-scheduled pick-up time. We would like to invite volunteers to help with set up\, support arts/learning activities\, and assist with clean up. The weekly series is offered on Thursdays from 3 to 5 PM. Volunteers are welcome to support this anytime from 2 to 5:30 PM. \nSign up to volunteer with us HERE!
URL:https://earlystartkc.org/event/stay-play-learn-2022-11-17/
LOCATION:MO
ATTACH;FMTTYPE=image/png:https://earlystartkc.org/wp-content/uploads/2022/07/Volunteer-SignUp-Genius-Banners-3.png
ORGANIZER;CN="Emily Wellborn":MAILTO:emily.wellborn@earlystARTkc.org
END:VEVENT
BEGIN:VEVENT
DTSTART;VALUE=DATE:20221112
DTEND;VALUE=DATE:20221113
DTSTAMP:20260421T093835
CREATED:20220912T171940Z
LAST-MODIFIED:20220912T171940Z
UID:245162-1668211200-1668297599@earlystartkc.org
SUMMARY:The 2023-24 SchoolAppKC Application is open!
DESCRIPTION:Apply for the next step in your child’s education through SchoolAppKC. They’ve streamlined the enrollment process for 21 Kansas City schools into one application. \nHave any questions? Your family advocate would love to support you. Reach out to them for help filling out this application and transitioning your child to Kindergarten!
URL:https://earlystartkc.org/event/the-2023-24-schoolappkc-application-is-open/
LOCATION:MO
END:VEVENT
BEGIN:VEVENT
DTSTART;TZID=America/New_York:20221110T140000
DTEND;TZID=America/New_York:20221110T173000
DTSTAMP:20260421T093835
CREATED:20220715T210709Z
LAST-MODIFIED:20220715T221543Z
UID:244893-1668088800-1668101400@earlystartkc.org
SUMMARY:Stay\, Play\, & Learn!
DESCRIPTION:EarlystART’s Stay\, Play\, & Learn is a weekly program where parents/caregivers and families are invited to engage with their child through an arts activity during their regularly-scheduled pick-up time. We would like to invite volunteers to help with set up\, support arts/learning activities\, and assist with clean up. The weekly series is offered on Thursdays from 3 to 5 PM. Volunteers are welcome to support this anytime from 2 to 5:30 PM. \nSign up to volunteer with us HERE!
URL:https://earlystartkc.org/event/stay-play-learn-2022-11-10/
LOCATION:MO
ATTACH;FMTTYPE=image/png:https://earlystartkc.org/wp-content/uploads/2022/07/Volunteer-SignUp-Genius-Banners-3.png
ORGANIZER;CN="Emily Wellborn":MAILTO:emily.wellborn@earlystARTkc.org
END:VEVENT
BEGIN:VEVENT
DTSTART;TZID=America/New_York:20221103T140000
DTEND;TZID=America/New_York:20221103T173000
DTSTAMP:20260421T093835
CREATED:20220715T210709Z
LAST-MODIFIED:20220715T221705Z
UID:244892-1667484000-1667496600@earlystartkc.org
SUMMARY:Stay\, Play\, & Learn!
DESCRIPTION:EarlystART’s Stay\, Play\, & Learn is a weekly program where parents/caregivers and families are invited to engage with their child through an arts activity during their regularly-scheduled pick-up time. We would like to invite volunteers to help with set up\, support arts/learning activities\, and assist with clean up. The weekly series is offered on Thursdays from 3 to 5 PM. Volunteers are welcome to support this anytime from 2 to 5:30 PM. \nSign up to volunteer with us HERE!
URL:https://earlystartkc.org/event/stay-play-learn-2022-11-03/
LOCATION:MO
ATTACH;FMTTYPE=image/png:https://earlystartkc.org/wp-content/uploads/2022/07/Volunteer-SignUp-Genius-Banners-3.png
ORGANIZER;CN="Emily Wellborn":MAILTO:emily.wellborn@earlystARTkc.org
END:VEVENT
BEGIN:VEVENT
DTSTART;TZID=America/New_York:20221028T140000
DTEND;TZID=America/New_York:20221028T173000
DTSTAMP:20260421T093835
CREATED:20220715T210709Z
LAST-MODIFIED:20220715T221817Z
UID:244891-1666965600-1666978200@earlystartkc.org
SUMMARY:Stay\, Play\, & Learn!
DESCRIPTION:EarlystART’s Stay\, Play\, & Learn is a weekly program where parents/caregivers and families are invited to engage with their child through an arts activity during their regularly-scheduled pick-up time. We would like to invite volunteers to help with set up\, support arts/learning activities\, and assist with clean up. The weekly series is offered on Thursdays from 3 to 5 PM. Volunteers are welcome to support this anytime from 2 to 5:30 PM. \nSign up to volunteer with us HERE!
URL:https://earlystartkc.org/event/stay-play-learn-2022-10-28/
LOCATION:MO
ATTACH;FMTTYPE=image/png:https://earlystartkc.org/wp-content/uploads/2022/07/Volunteer-SignUp-Genius-Banners-3.png
ORGANIZER;CN="Emily Wellborn":MAILTO:emily.wellborn@earlystARTkc.org
END:VEVENT
BEGIN:VEVENT
DTSTART;TZID=America/New_York:20221021T140000
DTEND;TZID=America/New_York:20221021T173000
DTSTAMP:20260421T093835
CREATED:20220715T210709Z
LAST-MODIFIED:20220715T221915Z
UID:244890-1666360800-1666373400@earlystartkc.org
SUMMARY:Stay\, Play\, & Learn!
DESCRIPTION:EarlystART’s Stay\, Play\, & Learn is a weekly program where parents/caregivers and families are invited to engage with their child through an arts activity during their regularly-scheduled pick-up time. We would like to invite volunteers to help with set up\, support arts/learning activities\, and assist with clean up. The weekly series is offered on Thursdays from 3 to 5 PM. Volunteers are welcome to support this anytime from 2 to 5:30 PM. \nSign up to volunteer with us HERE!
URL:https://earlystartkc.org/event/stay-play-learn-2022-10-21/
LOCATION:MO
ATTACH;FMTTYPE=image/png:https://earlystartkc.org/wp-content/uploads/2022/07/Volunteer-SignUp-Genius-Banners-3.png
ORGANIZER;CN="Emily Wellborn":MAILTO:emily.wellborn@earlystARTkc.org
END:VEVENT
BEGIN:VEVENT
DTSTART;TZID=America/New_York:20221014T140000
DTEND;TZID=America/New_York:20221014T173000
DTSTAMP:20260421T093835
CREATED:20220715T210709Z
LAST-MODIFIED:20220715T222105Z
UID:244889-1665756000-1665768600@earlystartkc.org
SUMMARY:Stay\, Play\, & Learn!
DESCRIPTION:EarlystART’s Stay\, Play\, & Learn is a weekly program where parents/caregivers and families are invited to engage with their child through an arts activity during their regularly-scheduled pick-up time. We would like to invite volunteers to help with set up\, support arts/learning activities\, and assist with clean up. The weekly series is offered on Thursdays from 3 to 5 PM. Volunteers are welcome to support this anytime from 2 to 5:30 PM. \nSign up to volunteer with us HERE!
URL:https://earlystartkc.org/event/stay-play-learn-2022-10-14/
LOCATION:MO
ATTACH;FMTTYPE=image/png:https://earlystartkc.org/wp-content/uploads/2022/07/Volunteer-SignUp-Genius-Banners-3.png
ORGANIZER;CN="Emily Wellborn":MAILTO:emily.wellborn@earlystARTkc.org
END:VEVENT
BEGIN:VEVENT
DTSTART;TZID=America/New_York:20221007T140000
DTEND;TZID=America/New_York:20221007T173000
DTSTAMP:20260421T093835
CREATED:20220715T210709Z
LAST-MODIFIED:20220715T222221Z
UID:244888-1665151200-1665163800@earlystartkc.org
SUMMARY:Stay\, Play\, & Learn!
DESCRIPTION:EarlystART’s Stay\, Play\, & Learn is a weekly program where parents/caregivers and families are invited to engage with their child through an arts activity during their regularly-scheduled pick-up time. We would like to invite volunteers to help with set up\, support arts/learning activities\, and assist with clean up. The weekly series is offered on Thursdays from 3 to 5 PM. Volunteers are welcome to support this anytime from 2 to 5:30 PM. \nSign up to volunteer with us HERE!
URL:https://earlystartkc.org/event/stay-play-learn-2022-10-07/
LOCATION:MO
ATTACH;FMTTYPE=image/png:https://earlystartkc.org/wp-content/uploads/2022/07/Volunteer-SignUp-Genius-Banners-3.png
ORGANIZER;CN="Emily Wellborn":MAILTO:emily.wellborn@earlystARTkc.org
END:VEVENT
BEGIN:VEVENT
DTSTART;TZID=America/New_York:20220929T140000
DTEND;TZID=America/New_York:20220929T173000
DTSTAMP:20260421T093835
CREATED:20220715T210709Z
LAST-MODIFIED:20220715T222328Z
UID:244887-1664460000-1664472600@earlystartkc.org
SUMMARY:Stay\, Play\, & Learn!
DESCRIPTION:EarlystART’s Stay\, Play\, & Learn is a weekly program where parents/caregivers and families are invited to engage with their child through an arts activity during their regularly-scheduled pick-up time. We would like to invite volunteers to help with set up\, support arts/learning activities\, and assist with clean up. The weekly series is offered on Thursdays from 3 to 5 PM. Volunteers are welcome to support this anytime from 2 to 5:30 PM. \nSign up to volunteer with us HERE!
URL:https://earlystartkc.org/event/stay-play-learn-2022-09-29/
LOCATION:MO
ATTACH;FMTTYPE=image/png:https://earlystartkc.org/wp-content/uploads/2022/07/Volunteer-SignUp-Genius-Banners-3.png
ORGANIZER;CN="Emily Wellborn":MAILTO:emily.wellborn@earlystARTkc.org
END:VEVENT
BEGIN:VEVENT
DTSTART;TZID=America/New_York:20220923T170000
DTEND;TZID=America/New_York:20220923T223000
DTSTAMP:20260421T093835
CREATED:20220715T212212Z
LAST-MODIFIED:20220715T224555Z
UID:244872-1663952400-1663972200@earlystartkc.org
SUMMARY:The Plaza Art Fair
DESCRIPTION:Volunteers are invited to represent EarlystART at the 2022 Plaza Art Fair! EarlystART will have different arts activities available for families to create together. Volunteers will have the opportunity to assist children and their families with arts experiences and share information about EarlystART with the community. This includes passing out flyers\, encouraging people to sign up for our mailing list\, and being an enthusiastic ambassador of our mission. Instructions for the art activities will be made available in advance of the event and also on-site. There will be some ongoing cleanup and organizing of the arts areas throughout each session of volunteering as well. Ultimately\, volunteering at the Plaza Art Fair will be a great way to celebrate art and community\, two things EarlystART strongly values! \nSign up to volunteer as an EarlystART advocate HERE!
URL:https://earlystartkc.org/event/the-plaza-art-fair/2022-09-23/
LOCATION:MO
ATTACH;FMTTYPE=image/png:https://earlystartkc.org/wp-content/uploads/2022/07/Volunteer-SignUp-Genius-Banners-1.png
END:VEVENT
BEGIN:VEVENT
DTSTART;TZID=America/New_York:20220923T113000
DTEND;TZID=America/New_York:20220923T140000
DTSTAMP:20260421T093835
CREATED:20220715T205728Z
LAST-MODIFIED:20220715T205728Z
UID:244827-1663932600-1663941600@earlystartkc.org
SUMMARY:Little Learners Luncheon
DESCRIPTION:Let’s get together for lunch this fall! We’re inviting you to join us for EarlystART’s fourth annual Little Learners Luncheon. This year’s event is Thursday\, September 23\, 2022 at the iconic Arrowhead Stadium. Civic leaders and longtime EarlystART advocates\, Mark and Mary Jorgenson\, are event chairs for the celebration. And a celebration\, it certainly will be. \nClick HERE for more details and to support the luncheon. \nThe Little Learners Luncheon wouldn’t be possible without amazing volunteers! Want to support Kansas City’s littlest learners with your time? Sign up and volunteer HERE! \n 
URL:https://earlystartkc.org/event/little-learners-luncheon/
LOCATION:MO
ATTACH;FMTTYPE=image/png:https://earlystartkc.org/wp-content/uploads/2022/04/Copy-of-LLL_SaveTheDate_20April22.png
END:VEVENT
BEGIN:VEVENT
DTSTART;TZID=America/New_York:20220922T140000
DTEND;TZID=America/New_York:20220922T173000
DTSTAMP:20260421T093835
CREATED:20220715T210709Z
LAST-MODIFIED:20220715T222453Z
UID:244886-1663855200-1663867800@earlystartkc.org
SUMMARY:Stay\, Play\, & Learn!
DESCRIPTION:EarlystART’s Stay\, Play\, & Learn is a weekly program where parents/caregivers and families are invited to engage with their child through an arts activity during their regularly-scheduled pick-up time. We would like to invite volunteers to help with set up\, support arts/learning activities\, and assist with clean up. The weekly series is offered on Thursdays from 3 to 5 PM. Volunteers are welcome to support this anytime from 2 to 5:30 PM. \nSign up to volunteer with us HERE!
URL:https://earlystartkc.org/event/stay-play-learn-2022-09-22/
LOCATION:MO
ATTACH;FMTTYPE=image/png:https://earlystartkc.org/wp-content/uploads/2022/07/Volunteer-SignUp-Genius-Banners-3.png
ORGANIZER;CN="Emily Wellborn":MAILTO:emily.wellborn@earlystARTkc.org
END:VEVENT
BEGIN:VEVENT
DTSTART;TZID=America/New_York:20220915T140000
DTEND;TZID=America/New_York:20220915T173000
DTSTAMP:20260421T093835
CREATED:20220715T210709Z
LAST-MODIFIED:20220715T222610Z
UID:244885-1663250400-1663263000@earlystartkc.org
SUMMARY:Stay\, Play\, & Learn!
DESCRIPTION:EarlystART’s Stay\, Play\, & Learn is a weekly program where parents/caregivers and families are invited to engage with their child through an arts activity during their regularly-scheduled pick-up time. We would like to invite volunteers to help with set up\, support arts/learning activities\, and assist with clean up. The weekly series is offered on Thursdays from 3 to 5 PM. Volunteers are welcome to support this anytime from 2 to 5:30 PM. \nSign up to volunteer with us HERE!
URL:https://earlystartkc.org/event/stay-play-learn-2022-09-15/
LOCATION:MO
ATTACH;FMTTYPE=image/png:https://earlystartkc.org/wp-content/uploads/2022/07/Volunteer-SignUp-Genius-Banners-3.png
ORGANIZER;CN="Emily Wellborn":MAILTO:emily.wellborn@earlystARTkc.org
END:VEVENT
BEGIN:VEVENT
DTSTART;TZID=America/New_York:20220908T140000
DTEND;TZID=America/New_York:20220908T173000
DTSTAMP:20260421T093835
CREATED:20220715T210709Z
LAST-MODIFIED:20220715T222657Z
UID:244884-1662645600-1662658200@earlystartkc.org
SUMMARY:Stay\, Play\, & Learn!
DESCRIPTION:EarlystART’s Stay\, Play\, & Learn is a weekly program where parents/caregivers and families are invited to engage with their child through an arts activity during their regularly-scheduled pick-up time. We would like to invite volunteers to help with set up\, support arts/learning activities\, and assist with clean up. The weekly series is offered on Thursdays from 3 to 5 PM. Volunteers are welcome to support this anytime from 2 to 5:30 PM. \nSign up to volunteer with us HERE!
URL:https://earlystartkc.org/event/stay-play-learn-2022-09-08/
LOCATION:MO
ATTACH;FMTTYPE=image/png:https://earlystartkc.org/wp-content/uploads/2022/07/Volunteer-SignUp-Genius-Banners-3.png
ORGANIZER;CN="Emily Wellborn":MAILTO:emily.wellborn@earlystARTkc.org
END:VEVENT
BEGIN:VEVENT
DTSTART;TZID=America/New_York:20220901T140000
DTEND;TZID=America/New_York:20220901T173000
DTSTAMP:20260421T093835
CREATED:20220715T210709Z
LAST-MODIFIED:20220715T222800Z
UID:244883-1662040800-1662053400@earlystartkc.org
SUMMARY:Stay\, Play\, & Learn!
DESCRIPTION:EarlystART’s Stay\, Play\, & Learn is a weekly program where parents/caregivers and families are invited to engage with their child through an arts activity during their regularly-scheduled pick-up time. We would like to invite volunteers to help with set up\, support arts/learning activities\, and assist with clean up. The weekly series is offered on Thursdays from 3 to 5 PM. Volunteers are welcome to support this anytime from 2 to 5:30 PM. \nSign up to volunteer with us HERE!
URL:https://earlystartkc.org/event/stay-play-learn-2022-09-01/
LOCATION:MO
ATTACH;FMTTYPE=image/png:https://earlystartkc.org/wp-content/uploads/2022/07/Volunteer-SignUp-Genius-Banners-3.png
ORGANIZER;CN="Emily Wellborn":MAILTO:emily.wellborn@earlystARTkc.org
END:VEVENT
BEGIN:VEVENT
DTSTART;TZID=America/New_York:20220825T140000
DTEND;TZID=America/New_York:20220825T173000
DTSTAMP:20260421T093835
CREATED:20220715T210709Z
LAST-MODIFIED:20220715T222920Z
UID:244882-1661436000-1661448600@earlystartkc.org
SUMMARY:Stay\, Play\, & Learn!
DESCRIPTION:EarlystART’s Stay\, Play\, & Learn is a weekly program where parents/caregivers and families are invited to engage with their child through an arts activity during their regularly-scheduled pick-up time. We would like to invite volunteers to help with set up\, support arts/learning activities\, and assist with clean up. The weekly series is offered on Thursdays from 3 to 5 PM. Volunteers are welcome to support this anytime from 2 to 5:30 PM. \nSign up to volunteer with us HERE!
URL:https://earlystartkc.org/event/stay-play-learn-2022-08-25/
LOCATION:MO
ATTACH;FMTTYPE=image/png:https://earlystartkc.org/wp-content/uploads/2022/07/Volunteer-SignUp-Genius-Banners-3.png
ORGANIZER;CN="Emily Wellborn":MAILTO:emily.wellborn@earlystARTkc.org
END:VEVENT
BEGIN:VEVENT
DTSTART;TZID=America/New_York:20220818T140000
DTEND;TZID=America/New_York:20220818T173000
DTSTAMP:20260421T093835
CREATED:20220715T210709Z
LAST-MODIFIED:20220715T223024Z
UID:244881-1660831200-1660843800@earlystartkc.org
SUMMARY:Stay\, Play\, & Learn!
DESCRIPTION:EarlystART’s Stay\, Play\, & Learn is a weekly program where parents/caregivers and families are invited to engage with their child through an arts activity during their regularly-scheduled pick-up time. We would like to invite volunteers to help with set up\, support arts/learning activities\, and assist with clean up. The weekly series is offered on Thursdays from 3 to 5 PM. Volunteers are welcome to support this anytime from 2 to 5:30 PM. \nSign up to volunteer with us HERE!
URL:https://earlystartkc.org/event/stay-play-learn-2022-08-18/
LOCATION:MO
ATTACH;FMTTYPE=image/png:https://earlystartkc.org/wp-content/uploads/2022/07/Volunteer-SignUp-Genius-Banners-3.png
ORGANIZER;CN="Emily Wellborn":MAILTO:emily.wellborn@earlystARTkc.org
END:VEVENT
BEGIN:VEVENT
DTSTART;VALUE=DATE:20220815
DTEND;VALUE=DATE:20220816
DTSTAMP:20260421T093835
CREATED:20220810T142129Z
LAST-MODIFIED:20220810T144024Z
UID:245003-1660521600-1660607999@earlystartkc.org
SUMMARY:First Day of School
DESCRIPTION:This is the first day of school for the 2022-2023 school year!
URL:https://earlystartkc.org/event/first-day-of-school/
LOCATION:MO
CATEGORIES:Program Start Days
END:VEVENT
BEGIN:VEVENT
DTSTART;TZID=America/New_York:20220811T080000
DTEND;TZID=America/New_York:20220811T190000
DTSTAMP:20260421T093835
CREATED:20220810T143605Z
LAST-MODIFIED:20220810T143605Z
UID:245008-1660204800-1660244400@earlystartkc.org
SUMMARY:Orientation: North Center
DESCRIPTION:North Center parents and caregivers will stop by between 8 AM and 7 PM to meet their child’s teacher and get ready for this upcoming school year!
URL:https://earlystartkc.org/event/orientation-north-center/
LOCATION:EarlystART-North Center\, 6600 A Royal St\, Pleasant Valley\, MO\, 64068\, United States
CATEGORIES:School Event
END:VEVENT
BEGIN:VEVENT
DTSTART;TZID=America/New_York:20220810T080000
DTEND;TZID=America/New_York:20220810T190000
DTSTAMP:20260421T093835
CREATED:20220810T143120Z
LAST-MODIFIED:20220810T143910Z
UID:245006-1660118400-1660158000@earlystartkc.org
SUMMARY:Orientation: Metro Center
DESCRIPTION:Metro Center parents and caregivers will stop by between 8 AM and 7 PM to meet their child’s teacher and get ready for this upcoming school year!
URL:https://earlystartkc.org/event/orientation-metro-center/
LOCATION:EarlystART-Metro Center\, 3827 Troost Ave\, Kansas City\, MO\, 64109\, United States
CATEGORIES:School Event
END:VEVENT
BEGIN:VEVENT
DTSTART;TZID=America/New_York:20220809T080000
DTEND;TZID=America/New_York:20220809T190000
DTSTAMP:20260421T093835
CREATED:20220810T142729Z
LAST-MODIFIED:20220810T143820Z
UID:245004-1660032000-1660071600@earlystartkc.org
SUMMARY:Orientation: St. Mark Center
DESCRIPTION:St. Mark Center parents and caregivers will stop by between 8 AM and 7 PM to meet their child’s teacher and get ready for this upcoming school year!
URL:https://earlystartkc.org/event/orientation-st-mark-center/
LOCATION:EarlystART – St. Mark Center\, 2008 E. 12th Street\, Kansas City\, MO\, 64127\, United States
CATEGORIES:School Event
END:VEVENT
END:VCALENDAR