BEGIN:VCALENDAR
VERSION:2.0
PRODID:-//EarlystART Schools - ECPv6.15.3//NONSGML v1.0//EN
CALSCALE:GREGORIAN
METHOD:PUBLISH
X-WR-CALNAME:EarlystART Schools
X-ORIGINAL-URL:https://earlystartkc.org
X-WR-CALDESC:Events for EarlystART Schools
REFRESH-INTERVAL;VALUE=DURATION:PT1H
X-Robots-Tag:noindex
X-PUBLISHED-TTL:PT1H
BEGIN:VTIMEZONE
TZID:America/Chicago
BEGIN:DAYLIGHT
TZOFFSETFROM:-0600
TZOFFSETTO:-0500
TZNAME:CDT
DTSTART:20230312T080000
END:DAYLIGHT
BEGIN:STANDARD
TZOFFSETFROM:-0500
TZOFFSETTO:-0600
TZNAME:CST
DTSTART:20231105T070000
END:STANDARD
BEGIN:DAYLIGHT
TZOFFSETFROM:-0600
TZOFFSETTO:-0500
TZNAME:CDT
DTSTART:20240310T080000
END:DAYLIGHT
BEGIN:STANDARD
TZOFFSETFROM:-0500
TZOFFSETTO:-0600
TZNAME:CST
DTSTART:20241103T070000
END:STANDARD
END:VTIMEZONE
BEGIN:VEVENT
DTSTART;VALUE=DATE:20240726
DTEND;VALUE=DATE:20240727
DTSTAMP:20260421T094500
CREATED:20230927T204617Z
LAST-MODIFIED:20230927T204617Z
UID:246140-1721952000-1722038399@earlystartkc.org
SUMMARY:Summer School Ends
DESCRIPTION:
URL:https://earlystartkc.org/event/summer-school-ends/
LOCATION:EarlystART – St. Mark Center\, 2008 E. 12th Street\, Kansas City\, MO\, 64127\, United States
CATEGORIES:School Event
END:VEVENT
BEGIN:VEVENT
DTSTART;VALUE=DATE:20240704
DTEND;VALUE=DATE:20240706
DTSTAMP:20260421T094500
CREATED:20230927T204534Z
LAST-MODIFIED:20230927T204534Z
UID:246139-1720051200-1720223999@earlystartkc.org
SUMMARY:Independence Day - NO SCHOOL
DESCRIPTION:
URL:https://earlystartkc.org/event/independence-day-no-school/
LOCATION:MO
CATEGORIES:School Event
END:VEVENT
BEGIN:VEVENT
DTSTART;VALUE=DATE:20240619
DTEND;VALUE=DATE:20240620
DTSTAMP:20260421T094500
CREATED:20230927T204444Z
LAST-MODIFIED:20230927T204444Z
UID:246138-1718755200-1718841599@earlystartkc.org
SUMMARY:Juneteenth - NO SCHOOL
DESCRIPTION:
URL:https://earlystartkc.org/event/juneteenth-no-school/
LOCATION:MO
CATEGORIES:School Event
END:VEVENT
BEGIN:VEVENT
DTSTART;VALUE=DATE:20240528
DTEND;VALUE=DATE:20240529
DTSTAMP:20260421T094500
CREATED:20230927T204356Z
LAST-MODIFIED:20230927T204356Z
UID:246137-1716854400-1716940799@earlystartkc.org
SUMMARY:Summer School Starts
DESCRIPTION:
URL:https://earlystartkc.org/event/summer-school-starts/
LOCATION:EarlystART – St. Mark Center\, 2008 E. 12th Street\, Kansas City\, MO\, 64127\, United States
CATEGORIES:Program Start Days,School Event
END:VEVENT
BEGIN:VEVENT
DTSTART;VALUE=DATE:20240524
DTEND;VALUE=DATE:20240525
DTSTAMP:20260421T094500
CREATED:20230927T204301Z
LAST-MODIFIED:20230927T204301Z
UID:246136-1716508800-1716595199@earlystartkc.org
SUMMARY:Professional Development Day - NO STUDENTS
DESCRIPTION:
URL:https://earlystartkc.org/event/professional-development-day-no-students/
LOCATION:EarlystART – St. Mark Center\, 2008 E. 12th Street\, Kansas City\, MO\, 64127\, United States
CATEGORIES:School Event
END:VEVENT
BEGIN:VEVENT
DTSTART;TZID=America/Chicago:20240523T180000
DTEND;TZID=America/Chicago:20240523T190000
DTSTAMP:20260421T094500
CREATED:20230927T203024Z
LAST-MODIFIED:20230927T203024Z
UID:246126-1716487200-1716490800@earlystartkc.org
SUMMARY:Pre-K Graduation Day
DESCRIPTION:
URL:https://earlystartkc.org/event/pre-k-graduation-day/
LOCATION:EarlystART – St. Mark Center\, 2008 E. 12th Street\, Kansas City\, MO\, 64127\, United States
CATEGORIES:EarlystART Family Engagement Events,School Event
END:VEVENT
BEGIN:VEVENT
DTSTART;TZID=America/Chicago:20240506T150000
DTEND;TZID=America/Chicago:20240506T170000
DTSTAMP:20260421T094500
CREATED:20230927T202918Z
LAST-MODIFIED:20230927T202918Z
UID:246125-1715007600-1715014800@earlystartkc.org
SUMMARY:Family Gardening Day
DESCRIPTION:
URL:https://earlystartkc.org/event/family-gardening-day/
LOCATION:EarlystART – St. Mark Center\, 2008 E. 12th Street\, Kansas City\, MO\, 64127\, United States
CATEGORIES:EarlystART Family Engagement Events
END:VEVENT
BEGIN:VEVENT
DTSTART;TZID=America/Chicago:20240506T080000
DTEND;TZID=America/Chicago:20240506T170000
DTSTAMP:20260421T094500
CREATED:20230927T202804Z
LAST-MODIFIED:20230927T202804Z
UID:246124-1714982400-1715014800@earlystartkc.org
SUMMARY:Parent Teacher Conferences
DESCRIPTION:By appointment only
URL:https://earlystartkc.org/event/parent-teacher-conferences-3/
LOCATION:EarlystART – St. Mark Center\, 2008 E. 12th Street\, Kansas City\, MO\, 64127\, United States
CATEGORIES:EarlystART Family Engagement Events,School Event
END:VEVENT
BEGIN:VEVENT
DTSTART;VALUE=DATE:20240419
DTEND;VALUE=DATE:20240420
DTSTAMP:20260421T094500
CREATED:20230927T204129Z
LAST-MODIFIED:20230927T204129Z
UID:246135-1713484800-1713571199@earlystartkc.org
SUMMARY:Teacher Development Day - NO STUDENTS
DESCRIPTION:
URL:https://earlystartkc.org/event/teacher-development-day-no-students-4/
LOCATION:EarlystART – St. Mark Center\, 2008 E. 12th Street\, Kansas City\, MO\, 64127\, United States
CATEGORIES:School Event
END:VEVENT
BEGIN:VEVENT
DTSTART;TZID=America/Chicago:20240418T173000
DTEND;TZID=America/Chicago:20240418T190000
DTSTAMP:20260421T094500
CREATED:20230927T202657Z
LAST-MODIFIED:20230927T202657Z
UID:246123-1713461400-1713466800@earlystartkc.org
SUMMARY:Art Festival
DESCRIPTION:
URL:https://earlystartkc.org/event/art-festival-2/
LOCATION:EarlystART – St. Mark Center\, 2008 E. 12th Street\, Kansas City\, MO\, 64127\, United States
CATEGORIES:EarlystART Family Engagement Events,Open to the Community
END:VEVENT
BEGIN:VEVENT
DTSTART;TZID=America/Chicago:20240411T173000
DTEND;TZID=America/Chicago:20240411T200000
DTSTAMP:20260421T094500
CREATED:20230927T202547Z
LAST-MODIFIED:20230927T202547Z
UID:246122-1712856600-1712865600@earlystartkc.org
SUMMARY:Parent Café (Conversation Series)
DESCRIPTION:
URL:https://earlystartkc.org/event/parent-cafe-conversation-series-5/
LOCATION:EarlystART – St. Mark Center\, 2008 E. 12th Street\, Kansas City\, MO\, 64127\, United States
CATEGORIES:EarlystART Family Engagement Events
END:VEVENT
BEGIN:VEVENT
DTSTART;VALUE=DATE:20240320
DTEND;VALUE=DATE:20240323
DTSTAMP:20260421T094500
CREATED:20230927T204028Z
LAST-MODIFIED:20230927T204028Z
UID:246134-1710892800-1711151999@earlystartkc.org
SUMMARY:Spring Break - NO SCHOOL
DESCRIPTION:
URL:https://earlystartkc.org/event/spring-break-no-school/
LOCATION:EarlystART – St. Mark Center\, 2008 E. 12th Street\, Kansas City\, MO\, 64127\, United States
CATEGORIES:School Event
END:VEVENT
BEGIN:VEVENT
DTSTART;TZID=America/Chicago:20240318T080000
DTEND;TZID=America/Chicago:20240319T170000
DTSTAMP:20260421T094500
CREATED:20230927T202433Z
LAST-MODIFIED:20230927T202433Z
UID:246121-1710748800-1710867600@earlystartkc.org
SUMMARY:Parent Teacher Conferences
DESCRIPTION:By Appointment Only
URL:https://earlystartkc.org/event/parent-teacher-conferences-2/
LOCATION:EarlystART – St. Mark Center\, 2008 E. 12th Street\, Kansas City\, MO\, 64127\, United States
CATEGORIES:EarlystART Family Engagement Events,School Event
END:VEVENT
BEGIN:VEVENT
DTSTART;TZID=America/Chicago:20240307T173000
DTEND;TZID=America/Chicago:20240307T200000
DTSTAMP:20260421T094500
CREATED:20230927T202153Z
LAST-MODIFIED:20230927T202153Z
UID:246119-1709832600-1709841600@earlystartkc.org
SUMMARY:Parent Cafe (Conversation Series)
DESCRIPTION:
URL:https://earlystartkc.org/event/parent-cafe-conversation-series-4/
LOCATION:EarlystART – St. Mark Center\, 2008 E. 12th Street\, Kansas City\, MO\, 64127\, United States
CATEGORIES:EarlystART Family Engagement Events
END:VEVENT
BEGIN:VEVENT
DTSTART;TZID=America/Chicago:20240229T173000
DTEND;TZID=America/Chicago:20240229T190000
DTSTAMP:20260421T094500
CREATED:20230927T202033Z
LAST-MODIFIED:20230927T202033Z
UID:246118-1709227800-1709233200@earlystartkc.org
SUMMARY:Black History Night
DESCRIPTION:
URL:https://earlystartkc.org/event/black-history-night/
LOCATION:EarlystART – St. Mark Center\, 2008 E. 12th Street\, Kansas City\, MO\, 64127\, United States
CATEGORIES:EarlystART Family Engagement Events
END:VEVENT
BEGIN:VEVENT
DTSTART;VALUE=DATE:20240219
DTEND;VALUE=DATE:20240220
DTSTAMP:20260421T094500
CREATED:20230927T203920Z
LAST-MODIFIED:20230927T203920Z
UID:246133-1708300800-1708387199@earlystartkc.org
SUMMARY:Presidents Day - NO SCHOOL
DESCRIPTION:
URL:https://earlystartkc.org/event/presidents-day-no-school/
LOCATION:EarlystART – St. Mark Center\, 2008 E. 12th Street\, Kansas City\, MO\, 64127\, United States
CATEGORIES:School Event
END:VEVENT
BEGIN:VEVENT
DTSTART;VALUE=DATE:20240216
DTEND;VALUE=DATE:20240217
DTSTAMP:20260421T094500
CREATED:20230927T203824Z
LAST-MODIFIED:20230927T203824Z
UID:246132-1708041600-1708127999@earlystartkc.org
SUMMARY:Teacher Development Day - NO STUDENTS
DESCRIPTION:
URL:https://earlystartkc.org/event/teacher-development-day-no-students-3/
LOCATION:EarlystART – St. Mark Center\, 2008 E. 12th Street\, Kansas City\, MO\, 64127\, United States
CATEGORIES:School Event
END:VEVENT
BEGIN:VEVENT
DTSTART;TZID=America/Chicago:20240208T173000
DTEND;TZID=America/Chicago:20240208T200000
DTSTAMP:20260421T094500
CREATED:20230927T201905Z
LAST-MODIFIED:20230927T201905Z
UID:246117-1707413400-1707422400@earlystartkc.org
SUMMARY:Parent Café (Conversation Series)
DESCRIPTION:
URL:https://earlystartkc.org/event/parent-cafe-conversation-series-3/
LOCATION:EarlystART – St. Mark Center\, 2008 E. 12th Street\, Kansas City\, MO\, 64127\, United States
CATEGORIES:EarlystART Family Engagement Events
END:VEVENT
BEGIN:VEVENT
DTSTART;VALUE=DATE:20240115
DTEND;VALUE=DATE:20240116
DTSTAMP:20260421T094500
CREATED:20230927T203727Z
LAST-MODIFIED:20230927T203727Z
UID:246131-1705276800-1705363199@earlystartkc.org
SUMMARY:MLK Day - NO SCHOOL
DESCRIPTION:
URL:https://earlystartkc.org/event/mlk-day-no-school/
LOCATION:EarlystART – St. Mark Center\, 2008 E. 12th Street\, Kansas City\, MO\, 64127\, United States
CATEGORIES:School Event
END:VEVENT
BEGIN:VEVENT
DTSTART;VALUE=DATE:20231222
DTEND;VALUE=DATE:20240103
DTSTAMP:20260421T094500
CREATED:20230927T203632Z
LAST-MODIFIED:20230927T203632Z
UID:246130-1703203200-1704239999@earlystartkc.org
SUMMARY:Winter Break - NO SCHOOL
DESCRIPTION:
URL:https://earlystartkc.org/event/winter-break-no-school/
LOCATION:EarlystART – St. Mark Center\, 2008 E. 12th Street\, Kansas City\, MO\, 64127\, United States
CATEGORIES:School Event
END:VEVENT
BEGIN:VEVENT
DTSTART;VALUE=DATE:20231221
DTEND;VALUE=DATE:20231222
DTSTAMP:20260421T094500
CREATED:20230927T203525Z
LAST-MODIFIED:20230927T203525Z
UID:246129-1703116800-1703203199@earlystartkc.org
SUMMARY:Teacher Development Day - NO STUDENTS
DESCRIPTION:
URL:https://earlystartkc.org/event/teacher-development-day-no-students-2/
LOCATION:EarlystART – St. Mark Center\, 2008 E. 12th Street\, Kansas City\, MO\, 64127\, United States
CATEGORIES:School Event
END:VEVENT
BEGIN:VEVENT
DTSTART;TZID=America/Chicago:20231214T173000
DTEND;TZID=America/Chicago:20231214T190000
DTSTAMP:20260421T094500
CREATED:20230927T201518Z
LAST-MODIFIED:20230927T201518Z
UID:246115-1702575000-1702580400@earlystartkc.org
SUMMARY:Snow Much Fun
DESCRIPTION:
URL:https://earlystartkc.org/event/snow-much-fun/
LOCATION:EarlystART – St. Mark Center\, 2008 E. 12th Street\, Kansas City\, MO\, 64127\, United States
CATEGORIES:EarlystART Family Engagement Events,School Event
END:VEVENT
BEGIN:VEVENT
DTSTART;VALUE=DATE:20231122
DTEND;VALUE=DATE:20231125
DTSTAMP:20260421T094500
CREATED:20230927T203420Z
LAST-MODIFIED:20230927T203420Z
UID:246128-1700611200-1700870399@earlystartkc.org
SUMMARY:Fall Break - NO SCHOOL
DESCRIPTION:
URL:https://earlystartkc.org/event/fall-break-no-school/
LOCATION:EarlystART – St. Mark Center\, 2008 E. 12th Street\, Kansas City\, MO\, 64127\, United States
CATEGORIES:School Event
END:VEVENT
BEGIN:VEVENT
DTSTART;TZID=America/Chicago:20231121T113000
DTEND;TZID=America/Chicago:20231121T120000
DTSTAMP:20260421T094500
CREATED:20230927T201422Z
LAST-MODIFIED:20230927T201422Z
UID:246114-1700566200-1700568000@earlystartkc.org
SUMMARY:Family Feast
DESCRIPTION:
URL:https://earlystartkc.org/event/family-feast/
LOCATION:EarlystART – St. Mark Center\, 2008 E. 12th Street\, Kansas City\, MO\, 64127\, United States
CATEGORIES:EarlystART Family Engagement Events,School Event
END:VEVENT
BEGIN:VEVENT
DTSTART;TZID=America/Chicago:20231109T173000
DTEND;TZID=America/Chicago:20231109T200000
DTSTAMP:20260421T094500
CREATED:20230927T201315Z
LAST-MODIFIED:20230927T201315Z
UID:246113-1699551000-1699560000@earlystartkc.org
SUMMARY:Parent Café (Conversation Series)
DESCRIPTION:
URL:https://earlystartkc.org/event/parent-cafe-conversation-series-2/
LOCATION:EarlystART – St. Mark Center\, 2008 E. 12th Street\, Kansas City\, MO\, 64127\, United States
CATEGORIES:EarlystART Family Engagement Events
END:VEVENT
BEGIN:VEVENT
DTSTART;TZID=America/Chicago:20231106T080000
DTEND;TZID=America/Chicago:20231117T170000
DTSTAMP:20260421T094500
CREATED:20230927T201144Z
LAST-MODIFIED:20230927T201144Z
UID:246112-1699257600-1700240400@earlystartkc.org
SUMMARY:Parent Teacher Conferences
DESCRIPTION:By appointment only
URL:https://earlystartkc.org/event/parent-teacher-conferences/
LOCATION:EarlystART – St. Mark Center\, 2008 E. 12th Street\, Kansas City\, MO\, 64127\, United States
CATEGORIES:School Event
END:VEVENT
BEGIN:VEVENT
DTSTART;TZID=America/Chicago:20231028T120000
DTEND;TZID=America/Chicago:20231028T160000
DTSTAMP:20260421T094500
CREATED:20230927T201002Z
LAST-MODIFIED:20230927T201002Z
UID:246111-1698494400-1698508800@earlystartkc.org
SUMMARY:Fall Festival (Family Outdoor Festival)
DESCRIPTION:
URL:https://earlystartkc.org/event/fall-festival-family-outdoor-festival/
LOCATION:EarlystART – St. Mark Center\, 2008 E. 12th Street\, Kansas City\, MO\, 64127\, United States
CATEGORIES:EarlystART Family Engagement Events,Open to the Community
END:VEVENT
BEGIN:VEVENT
DTSTART;TZID=America/Chicago:20231028T120000
DTEND;TZID=America/Chicago:20231028T160000
DTSTAMP:20260421T094500
CREATED:20230612T214023Z
LAST-MODIFIED:20230612T214023Z
UID:245730-1698494400-1698508800@earlystartkc.org
SUMMARY:2023 Fall Festival
DESCRIPTION:Come enjoy a day full of food\, music\, art\, and so much more! Join us on October 28th from 12-4PM at EarlystART – St. Mark Center.
URL:https://earlystartkc.org/event/2023-fall-festival/
LOCATION:EarlystART – St. Mark Center\, 2008 E. 12th Street\, Kansas City\, MO\, 64127\, United States
END:VEVENT
BEGIN:VEVENT
DTSTART;VALUE=DATE:20231027
DTEND;VALUE=DATE:20231028
DTSTAMP:20260421T094500
CREATED:20230927T203254Z
LAST-MODIFIED:20230927T203254Z
UID:246127-1698364800-1698451199@earlystartkc.org
SUMMARY:Teacher Development Day - NO STUDENTS
DESCRIPTION:
URL:https://earlystartkc.org/event/teacher-development-day-no-students/
LOCATION:EarlystART – St. Mark Center\, 2008 E. 12th Street\, Kansas City\, MO\, 64127\, United States
CATEGORIES:School Event
END:VEVENT
BEGIN:VEVENT
DTSTART;TZID=America/Chicago:20231019T173000
DTEND;TZID=America/Chicago:20231019T190000
DTSTAMP:20260421T094500
CREATED:20230927T200843Z
LAST-MODIFIED:20230927T200843Z
UID:246110-1697736600-1697742000@earlystartkc.org
SUMMARY:Learn-a-Palooza
DESCRIPTION:
URL:https://earlystartkc.org/event/learn-a-palooza/
LOCATION:MO
CATEGORIES:EarlystART Family Engagement Events
END:VEVENT
END:VCALENDAR