BEGIN:VCALENDAR
VERSION:2.0
PRODID:-//EarlystART Schools - ECPv6.15.3//NONSGML v1.0//EN
CALSCALE:GREGORIAN
METHOD:PUBLISH
X-WR-CALNAME:EarlystART Schools
X-ORIGINAL-URL:https://earlystartkc.org
X-WR-CALDESC:Events for EarlystART Schools
REFRESH-INTERVAL;VALUE=DURATION:PT1H
X-Robots-Tag:noindex
X-PUBLISHED-TTL:PT1H
BEGIN:VTIMEZONE
TZID:America/Chicago
BEGIN:DAYLIGHT
TZOFFSETFROM:-0600
TZOFFSETTO:-0500
TZNAME:CDT
DTSTART:20230312T080000
END:DAYLIGHT
BEGIN:STANDARD
TZOFFSETFROM:-0500
TZOFFSETTO:-0600
TZNAME:CST
DTSTART:20231105T070000
END:STANDARD
BEGIN:DAYLIGHT
TZOFFSETFROM:-0600
TZOFFSETTO:-0500
TZNAME:CDT
DTSTART:20240310T080000
END:DAYLIGHT
BEGIN:STANDARD
TZOFFSETFROM:-0500
TZOFFSETTO:-0600
TZNAME:CST
DTSTART:20241103T070000
END:STANDARD
END:VTIMEZONE
BEGIN:VTIMEZONE
TZID:America/New_York
BEGIN:DAYLIGHT
TZOFFSETFROM:-0500
TZOFFSETTO:-0400
TZNAME:EDT
DTSTART:20230312T070000
END:DAYLIGHT
BEGIN:STANDARD
TZOFFSETFROM:-0400
TZOFFSETTO:-0500
TZNAME:EST
DTSTART:20231105T060000
END:STANDARD
END:VTIMEZONE
BEGIN:VTIMEZONE
TZID:UTC
BEGIN:STANDARD
TZOFFSETFROM:+0000
TZOFFSETTO:+0000
TZNAME:UTC
DTSTART:20230101T000000
END:STANDARD
END:VTIMEZONE
BEGIN:VEVENT
DTSTART;VALUE=DATE:20240216
DTEND;VALUE=DATE:20240217
DTSTAMP:20260421T061447
CREATED:20230927T203824Z
LAST-MODIFIED:20230927T203824Z
UID:246132-1708041600-1708127999@earlystartkc.org
SUMMARY:Teacher Development Day - NO STUDENTS
DESCRIPTION:
URL:https://earlystartkc.org/event/teacher-development-day-no-students-3/
LOCATION:EarlystART – St. Mark Center\, 2008 E. 12th Street\, Kansas City\, MO\, 64127\, United States
CATEGORIES:School Event
END:VEVENT
BEGIN:VEVENT
DTSTART;TZID=America/Chicago:20240208T173000
DTEND;TZID=America/Chicago:20240208T200000
DTSTAMP:20260421T061447
CREATED:20230927T201905Z
LAST-MODIFIED:20230927T201905Z
UID:246117-1707413400-1707422400@earlystartkc.org
SUMMARY:Parent Café (Conversation Series)
DESCRIPTION:
URL:https://earlystartkc.org/event/parent-cafe-conversation-series-3/
LOCATION:EarlystART – St. Mark Center\, 2008 E. 12th Street\, Kansas City\, MO\, 64127\, United States
CATEGORIES:EarlystART Family Engagement Events
END:VEVENT
BEGIN:VEVENT
DTSTART;VALUE=DATE:20240115
DTEND;VALUE=DATE:20240116
DTSTAMP:20260421T061447
CREATED:20230927T203727Z
LAST-MODIFIED:20230927T203727Z
UID:246131-1705276800-1705363199@earlystartkc.org
SUMMARY:MLK Day - NO SCHOOL
DESCRIPTION:
URL:https://earlystartkc.org/event/mlk-day-no-school/
LOCATION:EarlystART – St. Mark Center\, 2008 E. 12th Street\, Kansas City\, MO\, 64127\, United States
CATEGORIES:School Event
END:VEVENT
BEGIN:VEVENT
DTSTART;VALUE=DATE:20231222
DTEND;VALUE=DATE:20240103
DTSTAMP:20260421T061447
CREATED:20230927T203632Z
LAST-MODIFIED:20230927T203632Z
UID:246130-1703203200-1704239999@earlystartkc.org
SUMMARY:Winter Break - NO SCHOOL
DESCRIPTION:
URL:https://earlystartkc.org/event/winter-break-no-school/
LOCATION:EarlystART – St. Mark Center\, 2008 E. 12th Street\, Kansas City\, MO\, 64127\, United States
CATEGORIES:School Event
END:VEVENT
BEGIN:VEVENT
DTSTART;VALUE=DATE:20231221
DTEND;VALUE=DATE:20231222
DTSTAMP:20260421T061447
CREATED:20230927T203525Z
LAST-MODIFIED:20230927T203525Z
UID:246129-1703116800-1703203199@earlystartkc.org
SUMMARY:Teacher Development Day - NO STUDENTS
DESCRIPTION:
URL:https://earlystartkc.org/event/teacher-development-day-no-students-2/
LOCATION:EarlystART – St. Mark Center\, 2008 E. 12th Street\, Kansas City\, MO\, 64127\, United States
CATEGORIES:School Event
END:VEVENT
BEGIN:VEVENT
DTSTART;TZID=America/Chicago:20231214T173000
DTEND;TZID=America/Chicago:20231214T190000
DTSTAMP:20260421T061447
CREATED:20230927T201518Z
LAST-MODIFIED:20230927T201518Z
UID:246115-1702575000-1702580400@earlystartkc.org
SUMMARY:Snow Much Fun
DESCRIPTION:
URL:https://earlystartkc.org/event/snow-much-fun/
LOCATION:EarlystART – St. Mark Center\, 2008 E. 12th Street\, Kansas City\, MO\, 64127\, United States
CATEGORIES:EarlystART Family Engagement Events,School Event
END:VEVENT
BEGIN:VEVENT
DTSTART;VALUE=DATE:20231122
DTEND;VALUE=DATE:20231125
DTSTAMP:20260421T061447
CREATED:20230927T203420Z
LAST-MODIFIED:20230927T203420Z
UID:246128-1700611200-1700870399@earlystartkc.org
SUMMARY:Fall Break - NO SCHOOL
DESCRIPTION:
URL:https://earlystartkc.org/event/fall-break-no-school/
LOCATION:EarlystART – St. Mark Center\, 2008 E. 12th Street\, Kansas City\, MO\, 64127\, United States
CATEGORIES:School Event
END:VEVENT
BEGIN:VEVENT
DTSTART;TZID=America/Chicago:20231121T113000
DTEND;TZID=America/Chicago:20231121T120000
DTSTAMP:20260421T061447
CREATED:20230927T201422Z
LAST-MODIFIED:20230927T201422Z
UID:246114-1700566200-1700568000@earlystartkc.org
SUMMARY:Family Feast
DESCRIPTION:
URL:https://earlystartkc.org/event/family-feast/
LOCATION:EarlystART – St. Mark Center\, 2008 E. 12th Street\, Kansas City\, MO\, 64127\, United States
CATEGORIES:EarlystART Family Engagement Events,School Event
END:VEVENT
BEGIN:VEVENT
DTSTART;TZID=America/Chicago:20231109T173000
DTEND;TZID=America/Chicago:20231109T200000
DTSTAMP:20260421T061447
CREATED:20230927T201315Z
LAST-MODIFIED:20230927T201315Z
UID:246113-1699551000-1699560000@earlystartkc.org
SUMMARY:Parent Café (Conversation Series)
DESCRIPTION:
URL:https://earlystartkc.org/event/parent-cafe-conversation-series-2/
LOCATION:EarlystART – St. Mark Center\, 2008 E. 12th Street\, Kansas City\, MO\, 64127\, United States
CATEGORIES:EarlystART Family Engagement Events
END:VEVENT
BEGIN:VEVENT
DTSTART;TZID=America/Chicago:20231106T080000
DTEND;TZID=America/Chicago:20231117T170000
DTSTAMP:20260421T061447
CREATED:20230927T201144Z
LAST-MODIFIED:20230927T201144Z
UID:246112-1699257600-1700240400@earlystartkc.org
SUMMARY:Parent Teacher Conferences
DESCRIPTION:By appointment only
URL:https://earlystartkc.org/event/parent-teacher-conferences/
LOCATION:EarlystART – St. Mark Center\, 2008 E. 12th Street\, Kansas City\, MO\, 64127\, United States
CATEGORIES:School Event
END:VEVENT
BEGIN:VEVENT
DTSTART;TZID=America/Chicago:20231028T120000
DTEND;TZID=America/Chicago:20231028T160000
DTSTAMP:20260421T061447
CREATED:20230927T201002Z
LAST-MODIFIED:20230927T201002Z
UID:246111-1698494400-1698508800@earlystartkc.org
SUMMARY:Fall Festival (Family Outdoor Festival)
DESCRIPTION:
URL:https://earlystartkc.org/event/fall-festival-family-outdoor-festival/
LOCATION:EarlystART – St. Mark Center\, 2008 E. 12th Street\, Kansas City\, MO\, 64127\, United States
CATEGORIES:EarlystART Family Engagement Events,Open to the Community
END:VEVENT
BEGIN:VEVENT
DTSTART;TZID=America/Chicago:20231028T120000
DTEND;TZID=America/Chicago:20231028T160000
DTSTAMP:20260421T061447
CREATED:20230612T214023Z
LAST-MODIFIED:20230612T214023Z
UID:245730-1698494400-1698508800@earlystartkc.org
SUMMARY:2023 Fall Festival
DESCRIPTION:Come enjoy a day full of food\, music\, art\, and so much more! Join us on October 28th from 12-4PM at EarlystART – St. Mark Center.
URL:https://earlystartkc.org/event/2023-fall-festival/
LOCATION:EarlystART – St. Mark Center\, 2008 E. 12th Street\, Kansas City\, MO\, 64127\, United States
END:VEVENT
BEGIN:VEVENT
DTSTART;VALUE=DATE:20231027
DTEND;VALUE=DATE:20231028
DTSTAMP:20260421T061447
CREATED:20230927T203254Z
LAST-MODIFIED:20230927T203254Z
UID:246127-1698364800-1698451199@earlystartkc.org
SUMMARY:Teacher Development Day - NO STUDENTS
DESCRIPTION:
URL:https://earlystartkc.org/event/teacher-development-day-no-students/
LOCATION:EarlystART – St. Mark Center\, 2008 E. 12th Street\, Kansas City\, MO\, 64127\, United States
CATEGORIES:School Event
END:VEVENT
BEGIN:VEVENT
DTSTART;TZID=America/Chicago:20231019T173000
DTEND;TZID=America/Chicago:20231019T190000
DTSTAMP:20260421T061447
CREATED:20230927T200843Z
LAST-MODIFIED:20230927T200843Z
UID:246110-1697736600-1697742000@earlystartkc.org
SUMMARY:Learn-a-Palooza
DESCRIPTION:
URL:https://earlystartkc.org/event/learn-a-palooza/
LOCATION:MO
CATEGORIES:EarlystART Family Engagement Events
END:VEVENT
BEGIN:VEVENT
DTSTART;TZID=America/Chicago:20231012T173000
DTEND;TZID=America/Chicago:20231012T200000
DTSTAMP:20260421T061447
CREATED:20230927T200721Z
LAST-MODIFIED:20230927T200721Z
UID:246109-1697131800-1697140800@earlystartkc.org
SUMMARY:Parent Cafe (Conversation Series)
DESCRIPTION:
URL:https://earlystartkc.org/event/parent-cafe-conversation-series/
LOCATION:EarlystART – St. Mark Center\, 2008 E. 12th Street\, Kansas City\, MO\, 64127\, United States
CATEGORIES:EarlystART Family Engagement Events
END:VEVENT
BEGIN:VEVENT
DTSTART;TZID=America/Chicago:20231005T173000
DTEND;TZID=America/Chicago:20231005T200000
DTSTAMP:20260421T061447
CREATED:20230927T200507Z
LAST-MODIFIED:20230927T200507Z
UID:246108-1696527000-1696536000@earlystartkc.org
SUMMARY:Hispanic Heritage Night
DESCRIPTION:
URL:https://earlystartkc.org/event/hispanic-heritage-night/
LOCATION:EarlystART – St. Mark Center\, 2008 E. 12th Street\, Kansas City\, MO\, 64127\, United States
CATEGORIES:EarlystART Family Engagement Events
END:VEVENT
BEGIN:VEVENT
DTSTART;TZID=America/Chicago:20231003T180000
DTEND;TZID=America/Chicago:20231003T200000
DTSTAMP:20260421T061447
CREATED:20230927T200336Z
LAST-MODIFIED:20230927T200336Z
UID:246101-1696356000-1696363200@earlystartkc.org
SUMMARY:Total Man (Fatherhood Series)
DESCRIPTION:
URL:https://earlystartkc.org/event/total-man-fatherhood-series/2023-10-03/
LOCATION:EarlystART – St. Mark Center\, 2008 E. 12th Street\, Kansas City\, MO\, 64127\, United States
CATEGORIES:EarlystART Family Engagement Events
END:VEVENT
BEGIN:VEVENT
DTSTART;TZID=America/Chicago:20230915T110000
DTEND;TZID=America/Chicago:20230915T133000
DTSTAMP:20260421T061447
CREATED:20230612T213646Z
LAST-MODIFIED:20230612T213646Z
UID:245728-1694775600-1694784600@earlystartkc.org
SUMMARY:2023 Little Learners Luncheon
DESCRIPTION:Just imagine a world where the boldest dreams are achievable and the possibilities are limitless. Do you see joy and wonder? Determination? A caring community? Friends and fun? \nLucky for Kansas City\, it’s a world we seek to create each and every day at EarlystART! It is a magical place where creativity is inspired and opportunities are endless (oh\, and crayons are bountiful!). Even more incredible is the power YOU hold to bring this life-changing mission to life for little learners and their families. Now the best part: you can make all of this happen just by  joining us for lunch this fall! \nEarlystART’s 4th annual Little Learners Luncheon is Friday\, September 15th at the legendary GEHA Field at Arrowhead Stadium in the North Club\, and we’re hoping you’ll consider joining us! \nBe a Table Host. Be a Sponsor. Be a Champion for early learning!
URL:https://earlystartkc.org/event/2023-little-learners-luncheon/
LOCATION:Arrowhead Stadium – Tower Club North\, 1 Arrowhead Dr\, Kansas City\, MO\, 64129\, United States
END:VEVENT
BEGIN:VEVENT
DTSTART;VALUE=DATE:20230313
DTEND;VALUE=DATE:20230314
DTSTAMP:20260421T061447
CREATED:20220912T185812Z
LAST-MODIFIED:20220912T185853Z
UID:245166-1678665600-1678751999@earlystartkc.org
SUMMARY:Last Day to Select Your School Through SchoolAppKC!
DESCRIPTION:So you applied for your child’s next school through SchoolAppKC and got your perfect offer. That’s WONDERFUL! Be sure to accept that offer today to secure your child’s spot! If you need any support\, reach out to your Family Advocate. They’re here to help you transition your child into this next exciting phase of life! \nDo you need more time to make a decision or want to keep a backup plan? Families can choose to remain on waitlists!
URL:https://earlystartkc.org/event/last-day-to-select-your-school-through-schoolappkc/
LOCATION:MO
END:VEVENT
BEGIN:VEVENT
DTSTART;TZID=America/New_York:20230306T160000
DTEND;TZID=America/New_York:20230306T160000
DTSTAMP:20260421T061447
CREATED:20220912T184407Z
LAST-MODIFIED:20220912T184407Z
UID:245165-1678118400-1678118400@earlystartkc.org
SUMMARY:SchoolAppKC Offers Go Out Today!
DESCRIPTION:If you completed an application for the 2023-24 school year through SchoolAppKC\, check your inbox! Offers will be out today by 4 PM. \n 
URL:https://earlystartkc.org/event/schoolappkc-offers-go-out-today/
LOCATION:MO
END:VEVENT
BEGIN:VEVENT
DTSTART;VALUE=DATE:20230301
DTEND;VALUE=DATE:20230302
DTSTAMP:20260421T061447
CREATED:20220912T181002Z
LAST-MODIFIED:20220912T181024Z
UID:245164-1677628800-1677715199@earlystartkc.org
SUMMARY:Last Day to Apply for the 2023-24 School Year on SchoolAppKC!
DESCRIPTION:Today is the last day to apply for a spot at 21 Kansas City schools in the 2023-24 school year through SchoolAppKC. \nHave any questions? Your family advocate would love to support you. Reach out to them for help filling out this application and transitioning your child to Kindergarten!
URL:https://earlystartkc.org/event/last-day-to-apply-for-the-2023-2024-school-year-on-schoolappkc/
LOCATION:MO
END:VEVENT
BEGIN:VEVENT
DTSTART;TZID=America/Chicago:20230221T183000
DTEND;TZID=America/Chicago:20230221T203000
DTSTAMP:20260421T061447
CREATED:20230202T144639Z
LAST-MODIFIED:20230202T144639Z
UID:245387-1677004200-1677011400@earlystartkc.org
SUMMARY:Alvin Ailey - Setting the Stage Performance
DESCRIPTION:Photo by Mike Strong \nSetting the Stage is an exciting visual journey through African American dance history. This performance will take place at St. Mark Center on February 21\, 2023 from 6:30 – 8:30 p.m. It is free to attend for all EarlystART families and the surrounding community!
URL:https://earlystartkc.org/event/alvin-ailey-setting-the-stage-performance/
LOCATION:EarlystART – St. Mark Center\, 2008 E. 12th Street\, Kansas City\, MO\, 64127\, United States
END:VEVENT
BEGIN:VEVENT
DTSTART;TZID=America/Chicago:20230218T110000
DTEND;TZID=America/Chicago:20230218T140000
DTSTAMP:20260421T061447
CREATED:20230201T225652Z
LAST-MODIFIED:20230201T225652Z
UID:245385-1676718000-1676728800@earlystartkc.org
SUMMARY:Employment & Career Fair
DESCRIPTION:An EarlystART career is an opportunity to forever change young lives. If you have a heart for quality early learning\, join us at our Career Fair on February 18th from 11AM-2PM. Hiring managers will be on site\, and childcare will be provided during your on-the-spot interview.
URL:https://earlystartkc.org/event/employment-career-fair/
LOCATION:EarlystART – St. Mark Center\, 2008 E. 12th Street\, Kansas City\, MO\, 64127\, United States
END:VEVENT
BEGIN:VEVENT
DTSTART;VALUE=DATE:20230215
DTEND;VALUE=DATE:20230216
DTSTAMP:20260421T061447
CREATED:20230213T201521Z
LAST-MODIFIED:20230213T201744Z
UID:245397-1676419200-1676505599@earlystartkc.org
SUMMARY:No School- Chiefs Super Bowl Parade
DESCRIPTION:As a result of the Chiefs’ incredible Super Bowl win\, school will be out of session for all of EarlystART’s early learning centers on Wednesday\, February 15th\, 2023 to allow staff and families to attend the Chiefs Kingdom Parade. \nAs area school districts and many other early childhood providers have already announced that they will be closed\, this decision was made in response to center-wide concerns about available staffing. We also want to support our staff in enjoying this momentous occasion with their family and friends. We apologize for any inconvenience this may cause families and appreciate your understanding. \nFamilies\, if you have any questions about this notice\, please contact your Family Advocate. Staff\, please connect with your direct supervisors with any questions about this school closure. \nIf you plan to celebrate this exciting victory\, please stay safe and enjoy celebrating the Chiefs Kingdom! \nGo Chiefs!
URL:https://earlystartkc.org/event/no-school-chiefs-super-bowl-parade/
LOCATION:MO
CATEGORIES:Holidays/School Closures
END:VEVENT
BEGIN:VEVENT
DTSTART;TZID=America/Chicago:20230209T173000
DTEND;TZID=America/Chicago:20230209T193000
DTSTAMP:20260421T061447
CREATED:20230201T225206Z
LAST-MODIFIED:20230201T225206Z
UID:245384-1675963800-1675971000@earlystartkc.org
SUMMARY:Sarah Rector Listening Session
DESCRIPTION:Everyone is encouraged to attend this final planning session on February 9\, 2023 and see what is in the works with this project. Dinner and childcare will be provided. Please use the Signup Genius link to register!
URL:https://earlystartkc.org/event/sarah-rector-listening-session/
LOCATION:EarlystART – St. Mark Center\, 2008 E. 12th Street\, Kansas City\, MO\, 64127\, United States
END:VEVENT
BEGIN:VEVENT
DTSTART;TZID=America/Chicago:20230202T150000
DTEND;TZID=America/Chicago:20230202T180000
DTSTAMP:20260421T061447
CREATED:20230201T224733Z
LAST-MODIFIED:20230201T224733Z
UID:245382-1675350000-1675360800@earlystartkc.org
SUMMARY:Kindergarten Fair
DESCRIPTION:This event is to inform our families of the premiere choices for their child entering Kindergarten. Family resources and various elementary schools will be in attendance to answer any questions you might have. Join us February 2nd from 3-6PM to learn more about your kindergarten options! \nSchools participating: \n\naSTEAM Village\nAcade’mie Lafayette\nAcademy of Integrated Arts\nBrookside Charter School\nCitizens of the World School\nCrossroads Charter Schools\nKansas City Public Schools\nLee A. Tolbert Community Academy
URL:https://earlystartkc.org/event/kindergarten-fair/
LOCATION:EarlystART – St. Mark Center\, 2008 E. 12th Street\, Kansas City\, MO\, 64127\, United States
END:VEVENT
BEGIN:VEVENT
DTSTART;TZID=America/Chicago:20230128T100000
DTEND;TZID=America/Chicago:20230128T120000
DTSTAMP:20260421T061447
CREATED:20230106T203812Z
LAST-MODIFIED:20230106T203812Z
UID:245366-1674900000-1674907200@earlystartkc.org
SUMMARY:School Saturday - City Wide Open Houses
DESCRIPTION:EarlystART is participating in (School App KC) SAKC School Saturday: City Wide Open House YEAR 5 on Saturday\, January 28\, 2023 10AM-12PM. Family advocates\, teachers\, and directors will be available to answer questions and provide tours for families interested in pre-k education for their child/children at EarlystART sites.
URL:https://earlystartkc.org/event/school-saturday-city-wide-open-houses/
LOCATION:EarlystART – St. Mark Center\, 2008 E. 12th Street\, Kansas City\, MO\, 64127\, United States
END:VEVENT
BEGIN:VEVENT
DTSTART;VALUE=DATE:20230128
DTEND;VALUE=DATE:20230129
DTSTAMP:20260421T061447
CREATED:20220912T172624Z
LAST-MODIFIED:20220912T172624Z
UID:245163-1674864000-1674950399@earlystartkc.org
SUMMARY:SchoolSmartKC School Saturday
DESCRIPTION:Tour schools and meet staff at 21 participating local schools\, including EarlystART’s three centers!
URL:https://earlystartkc.org/event/schoolsmartkc-school-saturday/
LOCATION:MO
END:VEVENT
BEGIN:VEVENT
DTSTART;TZID=America/Chicago:20230116T090000
DTEND;TZID=America/Chicago:20230116T130000
DTSTAMP:20260421T061447
CREATED:20230103T203134Z
LAST-MODIFIED:20230103T203345Z
UID:245345-1673859600-1673874000@earlystartkc.org
SUMMARY:MLK Jr. Day of Service
DESCRIPTION:EarlystART is hosting a special day of service on January 16\, 2023 to honor the service and humanitarianism that Dr. Martin Luther King\, Jr. so beautifully demonstrated during his life. If you’d like to join us on this day of service\, you can sign up and find more details through the link listed below.
URL:https://earlystartkc.org/event/mlk-jr-day-of-service/
LOCATION:EarlystART-North Center\, 6600 A Royal St\, Pleasant Valley\, MO\, 64068\, United States
CATEGORIES:Volunteer Opportunities
ORGANIZER;CN="Alana Ellis":MAILTO:alana.ellis@earlystartkc.org
END:VEVENT
BEGIN:VEVENT
DTSTART;TZID=America/Chicago:20230105T140000
DTEND;TZID=America/Chicago:20230105T173000
DTSTAMP:20260421T061447
CREATED:20230103T205925Z
LAST-MODIFIED:20230103T205925Z
UID:245347-1672927200-1672939800@earlystartkc.org
SUMMARY:Stay\, Play\, & Learn!
DESCRIPTION:EarlystART’s Stay\, Play\, & Learn is a weekly program where parents/caregivers and families are invited to engage with their child through an arts activity during their regularly-scheduled pick-up time. We would like to invite volunteers to help with set up\, support arts/learning activities\, and assist with clean up. The weekly series is offered on Thursdays from 3 to 5PM. Volunteers are welcome to support this anytime from 2 to 5:30PM. \nSign up to volunteer with us HERE!
URL:https://earlystartkc.org/event/stay-play-learn-2/2023-01-05/
LOCATION:EarlystART – St. Mark Center\, 2008 E. 12th Street\, Kansas City\, MO\, 64127\, United States
ORGANIZER;CN="Alana Ellis":MAILTO:alana.ellis@earlystartkc.org
END:VEVENT
END:VCALENDAR